BEGIN:VCALENDAR
VERSION:2.0
PRODID:-//SeniorenNachbarschaftsHilfe e.V. - von mit für Menschen - ECPv6.15.20//NONSGML v1.0//EN
CALSCALE:GREGORIAN
METHOD:PUBLISH
X-WR-CALNAME:SeniorenNachbarschaftsHilfe e.V. - von mit für Menschen
X-ORIGINAL-URL:https://snh-hofheim.de
X-WR-CALDESC:Veranstaltungen für SeniorenNachbarschaftsHilfe e.V. - von mit für Menschen
REFRESH-INTERVAL;VALUE=DURATION:PT1H
X-Robots-Tag:noindex
X-PUBLISHED-TTL:PT1H
BEGIN:VTIMEZONE
TZID:Europe/Berlin
BEGIN:DAYLIGHT
TZOFFSETFROM:+0100
TZOFFSETTO:+0200
TZNAME:CEST
DTSTART:20240331T010000
END:DAYLIGHT
BEGIN:STANDARD
TZOFFSETFROM:+0200
TZOFFSETTO:+0100
TZNAME:CET
DTSTART:20241027T010000
END:STANDARD
BEGIN:DAYLIGHT
TZOFFSETFROM:+0100
TZOFFSETTO:+0200
TZNAME:CEST
DTSTART:20250330T010000
END:DAYLIGHT
BEGIN:STANDARD
TZOFFSETFROM:+0200
TZOFFSETTO:+0100
TZNAME:CET
DTSTART:20251026T010000
END:STANDARD
BEGIN:DAYLIGHT
TZOFFSETFROM:+0100
TZOFFSETTO:+0200
TZNAME:CEST
DTSTART:20260329T010000
END:DAYLIGHT
BEGIN:STANDARD
TZOFFSETFROM:+0200
TZOFFSETTO:+0100
TZNAME:CET
DTSTART:20261025T010000
END:STANDARD
END:VTIMEZONE
BEGIN:VEVENT
DTSTART;TZID=Europe/Berlin:20250903T140000
DTEND;TZID=Europe/Berlin:20250903T170000
DTSTAMP:20260425T011424
CREATED:20250710T172005Z
LAST-MODIFIED:20250710T172005Z
UID:10020-1756908000-1756918800@snh-hofheim.de
SUMMARY:Geselligkeit: SNH-Sommerkinocafé
DESCRIPTION:Film: „Kriegerin“ jung\, weiblich\, rechtsradikal mit anschl. Diskussion\nKellereigebäude\, Raum Nassau 14.00 – 17.00 Uhr
URL:https://snh-hofheim.de/kalender/geselligkeit-snh-sommerkinocafe/
LOCATION:Im Kellereigebäude\, Raum Nassau\, Burgstr. 28\, Hofheim\, 65719\, Deutschland
END:VEVENT
END:VCALENDAR