BEGIN:VCALENDAR
VERSION:2.0
PRODID:-//SeniorenNachbarschaftsHilfe e.V. - von mit für Menschen - ECPv6.15.20//NONSGML v1.0//EN
CALSCALE:GREGORIAN
METHOD:PUBLISH
X-ORIGINAL-URL:https://snh-hofheim.de
X-WR-CALDESC:Veranstaltungen für SeniorenNachbarschaftsHilfe e.V. - von mit für Menschen
REFRESH-INTERVAL;VALUE=DURATION:PT1H
X-Robots-Tag:noindex
X-PUBLISHED-TTL:PT1H
BEGIN:VTIMEZONE
TZID:Europe/Berlin
BEGIN:DAYLIGHT
TZOFFSETFROM:+0100
TZOFFSETTO:+0200
TZNAME:CEST
DTSTART:20240331T010000
END:DAYLIGHT
BEGIN:STANDARD
TZOFFSETFROM:+0200
TZOFFSETTO:+0100
TZNAME:CET
DTSTART:20241027T010000
END:STANDARD
BEGIN:DAYLIGHT
TZOFFSETFROM:+0100
TZOFFSETTO:+0200
TZNAME:CEST
DTSTART:20250330T010000
END:DAYLIGHT
BEGIN:STANDARD
TZOFFSETFROM:+0200
TZOFFSETTO:+0100
TZNAME:CET
DTSTART:20251026T010000
END:STANDARD
BEGIN:DAYLIGHT
TZOFFSETFROM:+0100
TZOFFSETTO:+0200
TZNAME:CEST
DTSTART:20260329T010000
END:DAYLIGHT
BEGIN:STANDARD
TZOFFSETFROM:+0200
TZOFFSETTO:+0100
TZNAME:CET
DTSTART:20261025T010000
END:STANDARD
END:VTIMEZONE
BEGIN:VEVENT
DTSTART;TZID=Europe/Berlin:20250918T100000
DTEND;TZID=Europe/Berlin:20250918T120000
DTSTAMP:20260424T012835
CREATED:20250710T173409Z
LAST-MODIFIED:20250710T173409Z
UID:10038-1758189600-1758196800@snh-hofheim.de
SUMMARY:Musik: Tanz mit Ruth Grau\, für Körper\, Geist und Seele mit SNH&VBV
DESCRIPTION:Kursstart 18.09.2025\, 6 Einheiten (30 EUR)\nKellereigebäude\, Schönbornsaal 10.00 – 12.00 Uhr
URL:https://snh-hofheim.de/kalender/musik-tanz-mit-ruth-grau-fuer-koerper-geist-und-seele-mit-snhvbv/
LOCATION:Kellereigebäude Schönbornsaal\, Burgstr. 28\, Hofheim\, 65719\, Deutschland
END:VEVENT
BEGIN:VEVENT
DTSTART;TZID=Europe/Berlin:20250918T140000
DTEND;TZID=Europe/Berlin:20250918T160000
DTSTAMP:20260424T012835
CREATED:20250710T173514Z
LAST-MODIFIED:20250710T173514Z
UID:10040-1758204000-1758211200@snh-hofheim.de
SUMMARY:Sport: Beckenbodengymnastik in Therorie & Praxis mit Daniela Füchter
DESCRIPTION:Wissenwertes über Anatomie und praktische Übungen für den Alltag\nKellereigebäude\, Schönbornsaal 14.00 – 16.00 Uhr
URL:https://snh-hofheim.de/kalender/sport-beckenbodengymnastik-in-therorie-praxis-mit-daniela-fuechter/
LOCATION:Kellereigebäude Schönbornsaal\, Burgstr. 28\, Hofheim\, 65719\, Deutschland
END:VEVENT
BEGIN:VEVENT
DTSTART;TZID=Europe/Berlin:20250918T170000
DTEND;TZID=Europe/Berlin:20250918T190000
DTSTAMP:20260424T012835
CREATED:20250710T173613Z
LAST-MODIFIED:20250710T173613Z
UID:10042-1758214800-1758222000@snh-hofheim.de
SUMMARY:Gesundheit: Das (ältere) Herz & die Psyche mit SNH&VBV
DESCRIPTION:Frau Dr. Ademmer von den Varisano Kliniken klärt auf.\nKellereigebäude\, Schönbornsaal 17.00 – 19.00 Uhr
URL:https://snh-hofheim.de/kalender/gesundheit-das-aeltere-herz-die-psyche-mit-snhvbv/
LOCATION:Kellereigebäude Schönbornsaal\, Burgstr. 28\, Hofheim\, 65719\, Deutschland
END:VEVENT
END:VCALENDAR